BEGIN:VCALENDAR
VERSION:2.0
PRODID:-//Riverside Golf Club - ECPv6.15.18//NONSGML v1.0//EN
CALSCALE:GREGORIAN
METHOD:PUBLISH
X-ORIGINAL-URL:https://www.riversidegcwv.com
X-WR-CALDESC:Events for Riverside Golf Club
REFRESH-INTERVAL;VALUE=DURATION:PT1H
X-Robots-Tag:noindex
X-PUBLISHED-TTL:PT1H
BEGIN:VTIMEZONE
TZID:America/New_York
BEGIN:DAYLIGHT
TZOFFSETFROM:-0500
TZOFFSETTO:-0400
TZNAME:EDT
DTSTART:20250309T070000
END:DAYLIGHT
BEGIN:STANDARD
TZOFFSETFROM:-0400
TZOFFSETTO:-0500
TZNAME:EST
DTSTART:20251102T060000
END:STANDARD
BEGIN:DAYLIGHT
TZOFFSETFROM:-0500
TZOFFSETTO:-0400
TZNAME:EDT
DTSTART:20260308T070000
END:DAYLIGHT
BEGIN:STANDARD
TZOFFSETFROM:-0400
TZOFFSETTO:-0500
TZNAME:EST
DTSTART:20261101T060000
END:STANDARD
BEGIN:DAYLIGHT
TZOFFSETFROM:-0500
TZOFFSETTO:-0400
TZNAME:EDT
DTSTART:20270314T070000
END:DAYLIGHT
BEGIN:STANDARD
TZOFFSETFROM:-0400
TZOFFSETTO:-0500
TZNAME:EST
DTSTART:20271107T060000
END:STANDARD
END:VTIMEZONE
BEGIN:VEVENT
DTSTART;TZID=America/New_York:20260901T080000
DTEND;TZID=America/New_York:20260901T123000
DTSTAMP:20260421T045943
CREATED:20260113T151559Z
LAST-MODIFIED:20260305T163144Z
UID:10000084-1788249600-1788265800@www.riversidegcwv.com
SUMMARY:Senior League
DESCRIPTION:
URL:https://www.riversidegcwv.com/event/senior-league/2026-09-01/
CATEGORIES:Leagues
END:VEVENT
BEGIN:VEVENT
DTSTART;TZID=America/New_York:20260903T130000
DTEND;TZID=America/New_York:20260903T170000
DTSTAMP:20260421T045943
CREATED:20260113T152024Z
LAST-MODIFIED:20260113T160217Z
UID:10000112-1788440400-1788454800@www.riversidegcwv.com
SUMMARY:Thursday League
DESCRIPTION:
URL:https://www.riversidegcwv.com/event/thursday-league/2026-09-03/
CATEGORIES:Leagues
END:VEVENT
BEGIN:VEVENT
DTSTART;VALUE=DATE:20260905
DTEND;VALUE=DATE:20260907
DTSTAMP:20260421T045943
CREATED:20260113T153522Z
LAST-MODIFIED:20260113T153754Z
UID:10000126-1788566400-1788739199@www.riversidegcwv.com
SUMMARY:Riverside Club Championship
DESCRIPTION:
URL:https://www.riversidegcwv.com/event/riverside-club-championship/
CATEGORIES:Riverside Tournaments
END:VEVENT
BEGIN:VEVENT
DTSTART;VALUE=DATE:20260908
DTEND;VALUE=DATE:20260911
DTSTAMP:20260421T045943
CREATED:20260113T153901Z
LAST-MODIFIED:20260113T153901Z
UID:10000127-1788825600-1789084799@www.riversidegcwv.com
SUMMARY:West Virginia Senior Amateur
DESCRIPTION:
URL:https://www.riversidegcwv.com/event/west-virginia-senior-amateur/
CATEGORIES:WVGA Events
END:VEVENT
BEGIN:VEVENT
DTSTART;TZID=America/New_York:20260911T080000
DTEND;TZID=America/New_York:20260911T130000
DTSTAMP:20260421T045943
CREATED:20260113T153958Z
LAST-MODIFIED:20260113T153958Z
UID:10000128-1789113600-1789131600@www.riversidegcwv.com
SUMMARY:Outing
DESCRIPTION:
URL:https://www.riversidegcwv.com/event/outing-4/
CATEGORIES:Outings
END:VEVENT
BEGIN:VEVENT
DTSTART;TZID=America/New_York:20260915T080000
DTEND;TZID=America/New_York:20260915T123000
DTSTAMP:20260421T045943
CREATED:20260113T151559Z
LAST-MODIFIED:20260305T163144Z
UID:10000086-1789459200-1789475400@www.riversidegcwv.com
SUMMARY:Senior League
DESCRIPTION:
URL:https://www.riversidegcwv.com/event/senior-league/2026-09-15/
CATEGORIES:Leagues
END:VEVENT
BEGIN:VEVENT
DTSTART;TZID=America/New_York:20260917T130000
DTEND;TZID=America/New_York:20260917T170000
DTSTAMP:20260421T045943
CREATED:20260113T152024Z
LAST-MODIFIED:20260113T160217Z
UID:10000114-1789650000-1789664400@www.riversidegcwv.com
SUMMARY:Thursday League
DESCRIPTION:
URL:https://www.riversidegcwv.com/event/thursday-league/2026-09-17/
CATEGORIES:Leagues
END:VEVENT
BEGIN:VEVENT
DTSTART;TZID=America/New_York:20260919T080000
DTEND;TZID=America/New_York:20260919T130000
DTSTAMP:20260421T045943
CREATED:20260113T154041Z
LAST-MODIFIED:20260113T154041Z
UID:10000129-1789804800-1789822800@www.riversidegcwv.com
SUMMARY:Battle of the Bridge
DESCRIPTION:
URL:https://www.riversidegcwv.com/event/battle-of-the-bridge/
CATEGORIES:Outings
END:VEVENT
BEGIN:VEVENT
DTSTART;TZID=America/New_York:20260922T080000
DTEND;TZID=America/New_York:20260922T123000
DTSTAMP:20260421T045943
CREATED:20260113T151559Z
LAST-MODIFIED:20260305T163144Z
UID:10000087-1790064000-1790080200@www.riversidegcwv.com
SUMMARY:Senior League
DESCRIPTION:
URL:https://www.riversidegcwv.com/event/senior-league/2026-09-22/
CATEGORIES:Leagues
END:VEVENT
BEGIN:VEVENT
DTSTART;TZID=America/New_York:20260924T130000
DTEND;TZID=America/New_York:20260924T170000
DTSTAMP:20260421T045943
CREATED:20260113T152024Z
LAST-MODIFIED:20260113T160217Z
UID:10000115-1790254800-1790269200@www.riversidegcwv.com
SUMMARY:Thursday League
DESCRIPTION:
URL:https://www.riversidegcwv.com/event/thursday-league/2026-09-24/
CATEGORIES:Leagues
END:VEVENT
BEGIN:VEVENT
DTSTART;TZID=America/New_York:20260929T080000
DTEND;TZID=America/New_York:20260929T123000
DTSTAMP:20260421T045943
CREATED:20260113T151559Z
LAST-MODIFIED:20260305T163144Z
UID:10000088-1790668800-1790685000@www.riversidegcwv.com
SUMMARY:Senior League
DESCRIPTION:
URL:https://www.riversidegcwv.com/event/senior-league/2026-09-29/
CATEGORIES:Leagues
END:VEVENT
END:VCALENDAR