BEGIN:VCALENDAR
VERSION:2.0
PRODID:-//Riverside Golf Club - ECPv6.15.18//NONSGML v1.0//EN
CALSCALE:GREGORIAN
METHOD:PUBLISH
X-ORIGINAL-URL:https://www.riversidegcwv.com
X-WR-CALDESC:Events for Riverside Golf Club
REFRESH-INTERVAL;VALUE=DURATION:PT1H
X-Robots-Tag:noindex
X-PUBLISHED-TTL:PT1H
BEGIN:VTIMEZONE
TZID:America/New_York
BEGIN:DAYLIGHT
TZOFFSETFROM:-0500
TZOFFSETTO:-0400
TZNAME:EDT
DTSTART:20250309T070000
END:DAYLIGHT
BEGIN:STANDARD
TZOFFSETFROM:-0400
TZOFFSETTO:-0500
TZNAME:EST
DTSTART:20251102T060000
END:STANDARD
BEGIN:DAYLIGHT
TZOFFSETFROM:-0500
TZOFFSETTO:-0400
TZNAME:EDT
DTSTART:20260308T070000
END:DAYLIGHT
BEGIN:STANDARD
TZOFFSETFROM:-0400
TZOFFSETTO:-0500
TZNAME:EST
DTSTART:20261101T060000
END:STANDARD
BEGIN:DAYLIGHT
TZOFFSETFROM:-0500
TZOFFSETTO:-0400
TZNAME:EDT
DTSTART:20270314T070000
END:DAYLIGHT
BEGIN:STANDARD
TZOFFSETFROM:-0400
TZOFFSETTO:-0500
TZNAME:EST
DTSTART:20271107T060000
END:STANDARD
END:VTIMEZONE
BEGIN:VEVENT
DTSTART;TZID=America/New_York:20261006T080000
DTEND;TZID=America/New_York:20261006T123000
DTSTAMP:20260419T135703
CREATED:20260113T151559Z
LAST-MODIFIED:20260305T163144Z
UID:10000089-1791273600-1791289800@www.riversidegcwv.com
SUMMARY:Senior League
DESCRIPTION:
URL:https://www.riversidegcwv.com/event/senior-league/2026-10-06/
CATEGORIES:Leagues
END:VEVENT
BEGIN:VEVENT
DTSTART;TZID=America/New_York:20261013T080000
DTEND;TZID=America/New_York:20261013T123000
DTSTAMP:20260419T135703
CREATED:20260113T151559Z
LAST-MODIFIED:20260305T163144Z
UID:10000090-1791878400-1791894600@www.riversidegcwv.com
SUMMARY:Senior League
DESCRIPTION:
URL:https://www.riversidegcwv.com/event/senior-league/2026-10-13/
CATEGORIES:Leagues
END:VEVENT
BEGIN:VEVENT
DTSTART;VALUE=DATE:20261014
DTEND;VALUE=DATE:20261015
DTSTAMP:20260419T135703
CREATED:20260113T154234Z
LAST-MODIFIED:20260113T154234Z
UID:10000131-1791936000-1792022399@www.riversidegcwv.com
SUMMARY:WVGA Senior Series
DESCRIPTION:
URL:https://www.riversidegcwv.com/event/wvga-senior-series/
CATEGORIES:WVGA Events
END:VEVENT
BEGIN:VEVENT
DTSTART;VALUE=DATE:20261016
DTEND;VALUE=DATE:20261019
DTSTAMP:20260419T135703
CREATED:20260113T154321Z
LAST-MODIFIED:20260113T154321Z
UID:10000132-1792108800-1792367999@www.riversidegcwv.com
SUMMARY:The RGC MINT
DESCRIPTION:
URL:https://www.riversidegcwv.com/event/the-rgc-mint/
CATEGORIES:Riverside Tournaments
END:VEVENT
BEGIN:VEVENT
DTSTART;TZID=America/New_York:20261020T080000
DTEND;TZID=America/New_York:20261020T123000
DTSTAMP:20260419T135703
CREATED:20260113T151559Z
LAST-MODIFIED:20260305T163144Z
UID:10000091-1792483200-1792499400@www.riversidegcwv.com
SUMMARY:Senior League
DESCRIPTION:
URL:https://www.riversidegcwv.com/event/senior-league/2026-10-20/
CATEGORIES:Leagues
END:VEVENT
BEGIN:VEVENT
DTSTART;TZID=America/New_York:20261027T080000
DTEND;TZID=America/New_York:20261027T123000
DTSTAMP:20260419T135703
CREATED:20260113T151559Z
LAST-MODIFIED:20260305T163144Z
UID:10000092-1793088000-1793104200@www.riversidegcwv.com
SUMMARY:Senior League
DESCRIPTION:
URL:https://www.riversidegcwv.com/event/senior-league/2026-10-27/
CATEGORIES:Leagues
END:VEVENT
END:VCALENDAR