BEGIN:VCALENDAR
VERSION:2.0
PRODID:-//Riverside Golf Club - ECPv6.15.18//NONSGML v1.0//EN
CALSCALE:GREGORIAN
METHOD:PUBLISH
X-ORIGINAL-URL:https://www.riversidegcwv.com
X-WR-CALDESC:Events for Riverside Golf Club
REFRESH-INTERVAL;VALUE=DURATION:PT1H
X-Robots-Tag:noindex
X-PUBLISHED-TTL:PT1H
BEGIN:VTIMEZONE
TZID:America/New_York
BEGIN:DAYLIGHT
TZOFFSETFROM:-0500
TZOFFSETTO:-0400
TZNAME:EDT
DTSTART:20250309T070000
END:DAYLIGHT
BEGIN:STANDARD
TZOFFSETFROM:-0400
TZOFFSETTO:-0500
TZNAME:EST
DTSTART:20251102T060000
END:STANDARD
BEGIN:DAYLIGHT
TZOFFSETFROM:-0500
TZOFFSETTO:-0400
TZNAME:EDT
DTSTART:20260308T070000
END:DAYLIGHT
BEGIN:STANDARD
TZOFFSETFROM:-0400
TZOFFSETTO:-0500
TZNAME:EST
DTSTART:20261101T060000
END:STANDARD
BEGIN:DAYLIGHT
TZOFFSETFROM:-0500
TZOFFSETTO:-0400
TZNAME:EDT
DTSTART:20270314T070000
END:DAYLIGHT
BEGIN:STANDARD
TZOFFSETFROM:-0400
TZOFFSETTO:-0500
TZNAME:EST
DTSTART:20271107T060000
END:STANDARD
END:VTIMEZONE
BEGIN:VEVENT
DTSTART;TZID=America/New_York:20260204T160000
DTEND;TZID=America/New_York:20260204T210000
DTSTAMP:20260422T054030
CREATED:20260113T154838Z
LAST-MODIFIED:20260113T160426Z
UID:10000136-1770220800-1770238800@www.riversidegcwv.com
SUMMARY:RGC Grill Winter Wednesdays
DESCRIPTION:RGC Grill open 4p – 9p
URL:https://www.riversidegcwv.com/event/rgc-grill-winter-wednesdays/2026-02-04/
CATEGORIES:RGC Grill
END:VEVENT
BEGIN:VEVENT
DTSTART;TZID=America/New_York:20260206T160000
DTEND;TZID=America/New_York:20260206T220000
DTSTAMP:20260422T054030
CREATED:20260113T154948Z
LAST-MODIFIED:20260113T160522Z
UID:10000195-1770393600-1770415200@www.riversidegcwv.com
SUMMARY:RGC Grill Friday Night Live
DESCRIPTION:RGC Grill Open 4p – 10p
URL:https://www.riversidegcwv.com/event/rgc-friday-night-live/2026-02-06/
CATEGORIES:RGC Grill
END:VEVENT
BEGIN:VEVENT
DTSTART;TZID=America/New_York:20260211T160000
DTEND;TZID=America/New_York:20260211T210000
DTSTAMP:20260422T054030
CREATED:20260113T154838Z
LAST-MODIFIED:20260113T160426Z
UID:10000137-1770825600-1770843600@www.riversidegcwv.com
SUMMARY:RGC Grill Winter Wednesdays
DESCRIPTION:RGC Grill open 4p – 9p
URL:https://www.riversidegcwv.com/event/rgc-grill-winter-wednesdays/2026-02-11/
CATEGORIES:RGC Grill
END:VEVENT
BEGIN:VEVENT
DTSTART;TZID=America/New_York:20260213T160000
DTEND;TZID=America/New_York:20260213T220000
DTSTAMP:20260422T054030
CREATED:20260113T154948Z
LAST-MODIFIED:20260113T160522Z
UID:10000196-1770998400-1771020000@www.riversidegcwv.com
SUMMARY:RGC Grill Friday Night Live
DESCRIPTION:RGC Grill Open 4p – 10p
URL:https://www.riversidegcwv.com/event/rgc-friday-night-live/2026-02-13/
CATEGORIES:RGC Grill
END:VEVENT
BEGIN:VEVENT
DTSTART;TZID=America/New_York:20260218T160000
DTEND;TZID=America/New_York:20260218T210000
DTSTAMP:20260422T054030
CREATED:20260113T154838Z
LAST-MODIFIED:20260113T160426Z
UID:10000138-1771430400-1771448400@www.riversidegcwv.com
SUMMARY:RGC Grill Winter Wednesdays
DESCRIPTION:RGC Grill open 4p – 9p
URL:https://www.riversidegcwv.com/event/rgc-grill-winter-wednesdays/2026-02-18/
CATEGORIES:RGC Grill
END:VEVENT
BEGIN:VEVENT
DTSTART;TZID=America/New_York:20260220T160000
DTEND;TZID=America/New_York:20260220T220000
DTSTAMP:20260422T054030
CREATED:20260113T154948Z
LAST-MODIFIED:20260113T160522Z
UID:10000197-1771603200-1771624800@www.riversidegcwv.com
SUMMARY:RGC Grill Friday Night Live
DESCRIPTION:RGC Grill Open 4p – 10p
URL:https://www.riversidegcwv.com/event/rgc-friday-night-live/2026-02-20/
CATEGORIES:RGC Grill
END:VEVENT
BEGIN:VEVENT
DTSTART;TZID=America/New_York:20260225T160000
DTEND;TZID=America/New_York:20260225T210000
DTSTAMP:20260422T054030
CREATED:20260113T154838Z
LAST-MODIFIED:20260113T160426Z
UID:10000139-1772035200-1772053200@www.riversidegcwv.com
SUMMARY:RGC Grill Winter Wednesdays
DESCRIPTION:RGC Grill open 4p – 9p
URL:https://www.riversidegcwv.com/event/rgc-grill-winter-wednesdays/2026-02-25/
CATEGORIES:RGC Grill
END:VEVENT
BEGIN:VEVENT
DTSTART;TZID=America/New_York:20260227T160000
DTEND;TZID=America/New_York:20260227T220000
DTSTAMP:20260422T054030
CREATED:20260113T154948Z
LAST-MODIFIED:20260113T160522Z
UID:10000198-1772208000-1772229600@www.riversidegcwv.com
SUMMARY:RGC Grill Friday Night Live
DESCRIPTION:RGC Grill Open 4p – 10p
URL:https://www.riversidegcwv.com/event/rgc-friday-night-live/2026-02-27/
CATEGORIES:RGC Grill
END:VEVENT
END:VCALENDAR