BEGIN:VCALENDAR
VERSION:2.0
PRODID:-//Riverside Golf Club - ECPv6.15.18//NONSGML v1.0//EN
CALSCALE:GREGORIAN
METHOD:PUBLISH
X-ORIGINAL-URL:https://www.riversidegcwv.com
X-WR-CALDESC:Events for Riverside Golf Club
REFRESH-INTERVAL;VALUE=DURATION:PT1H
X-Robots-Tag:noindex
X-PUBLISHED-TTL:PT1H
BEGIN:VTIMEZONE
TZID:America/New_York
BEGIN:DAYLIGHT
TZOFFSETFROM:-0500
TZOFFSETTO:-0400
TZNAME:EDT
DTSTART:20250309T070000
END:DAYLIGHT
BEGIN:STANDARD
TZOFFSETFROM:-0400
TZOFFSETTO:-0500
TZNAME:EST
DTSTART:20251102T060000
END:STANDARD
BEGIN:DAYLIGHT
TZOFFSETFROM:-0500
TZOFFSETTO:-0400
TZNAME:EDT
DTSTART:20260308T070000
END:DAYLIGHT
BEGIN:STANDARD
TZOFFSETFROM:-0400
TZOFFSETTO:-0500
TZNAME:EST
DTSTART:20261101T060000
END:STANDARD
BEGIN:DAYLIGHT
TZOFFSETFROM:-0500
TZOFFSETTO:-0400
TZNAME:EDT
DTSTART:20270314T070000
END:DAYLIGHT
BEGIN:STANDARD
TZOFFSETFROM:-0400
TZOFFSETTO:-0500
TZNAME:EST
DTSTART:20271107T060000
END:STANDARD
END:VTIMEZONE
BEGIN:VEVENT
DTSTART;TZID=America/New_York:20260510T130000
DTEND;TZID=America/New_York:20260510T170000
DTSTAMP:20260420T074903
CREATED:20260113T145347Z
LAST-MODIFIED:20260113T150609Z
UID:10000052-1778418000-1778432400@www.riversidegcwv.com
SUMMARY:Under Armour Junior Tour
DESCRIPTION:
URL:https://www.riversidegcwv.com/event/under-armour-junior-tour/
CATEGORIES:Outings
END:VEVENT
BEGIN:VEVENT
DTSTART;TZID=America/New_York:20260516T083000
DTEND;TZID=America/New_York:20260516T133000
DTSTAMP:20260420T074903
CREATED:20260113T145705Z
LAST-MODIFIED:20260113T145928Z
UID:10000054-1778920200-1778938200@www.riversidegcwv.com
SUMMARY:Wahama Golf Team Scramble
DESCRIPTION:
URL:https://www.riversidegcwv.com/event/wahama-golf-team-scramble/
CATEGORIES:Outings
END:VEVENT
BEGIN:VEVENT
DTSTART;TZID=America/New_York:20260529T080000
DTEND;TZID=America/New_York:20260529T130000
DTSTAMP:20260420T074903
CREATED:20260113T145741Z
LAST-MODIFIED:20260113T145758Z
UID:10000055-1780041600-1780059600@www.riversidegcwv.com
SUMMARY:Outing
DESCRIPTION:
URL:https://www.riversidegcwv.com/event/outing/
CATEGORIES:Outings
END:VEVENT
END:VCALENDAR